{
 "currentVersion": 10.61,
 "serviceDescription": "Zoning Background",
 "mapName": "Layers",
 "description": "",
 "copyrightText": "",
 "supportsDynamicLayers": true,
 "layers": [
  {
   "id": 0,
   "name": "extent",
   "parentLayerId": -1,
   "defaultVisibility": false,
   "subLayerIds": null,
   "minScale": 0,
   "maxScale": 0
  },
  {
   "id": 1,
   "name": "zoning_history_anno_edit",
   "parentLayerId": -1,
   "defaultVisibility": true,
   "subLayerIds": [
    2
   ],
   "minScale": 2000,
   "maxScale": 0
  },
  {
   "id": 2,
   "name": "Default",
   "parentLayerId": 1,
   "defaultVisibility": true,
   "subLayerIds": null,
   "minScale": 0,
   "maxScale": 0
  },
  {
   "id": 3,
   "name": "Carto_RegionalBoundaryAnno",
   "parentLayerId": -1,
   "defaultVisibility": true,
   "subLayerIds": [
    4
   ],
   "minScale": 0,
   "maxScale": 0
  },
  {
   "id": 4,
   "name": "Annotation Class 1",
   "parentLayerId": 3,
   "defaultVisibility": true,
   "subLayerIds": null,
   "minScale": 0,
   "maxScale": 0
  },
  {
   "id": 5,
   "name": "Carto_SecondMunicipalitiesAnno 200k",
   "parentLayerId": -1,
   "defaultVisibility": true,
   "subLayerIds": [
    6
   ],
   "minScale": 0,
   "maxScale": 200000
  },
  {
   "id": 6,
   "name": "Default",
   "parentLayerId": 5,
   "defaultVisibility": true,
   "subLayerIds": null,
   "minScale": 0,
   "maxScale": 0
  },
  {
   "id": 7,
   "name": "Main Municipalities Labels 72-36k",
   "parentLayerId": -1,
   "defaultVisibility": true,
   "subLayerIds": [
    8
   ],
   "minScale": 72000,
   "maxScale": 36000
  },
  {
   "id": 8,
   "name": "Default",
   "parentLayerId": 7,
   "defaultVisibility": true,
   "subLayerIds": null,
   "minScale": 0,
   "maxScale": 0
  },
  {
   "id": 9,
   "name": "Main Municipalities Labels 200k",
   "parentLayerId": -1,
   "defaultVisibility": true,
   "subLayerIds": [
    10
   ],
   "minScale": 0,
   "maxScale": 200000
  },
  {
   "id": 10,
   "name": "Default",
   "parentLayerId": 9,
   "defaultVisibility": true,
   "subLayerIds": null,
   "minScale": 0,
   "maxScale": 0
  },
  {
   "id": 11,
   "name": "Secondary Municpalities Labels",
   "parentLayerId": -1,
   "defaultVisibility": true,
   "subLayerIds": [
    12
   ],
   "minScale": 120000,
   "maxScale": 24000
  },
  {
   "id": 12,
   "name": "Default",
   "parentLayerId": 11,
   "defaultVisibility": true,
   "subLayerIds": null,
   "minScale": 0,
   "maxScale": 0
  },
  {
   "id": 13,
   "name": "Main Municipalities Labels",
   "parentLayerId": -1,
   "defaultVisibility": true,
   "subLayerIds": [
    14
   ],
   "minScale": 0,
   "maxScale": 480000
  },
  {
   "id": 14,
   "name": "Default",
   "parentLayerId": 13,
   "defaultVisibility": true,
   "subLayerIds": null,
   "minScale": 0,
   "maxScale": 0
  },
  {
   "id": 15,
   "name": "Montgomery County",
   "parentLayerId": -1,
   "defaultVisibility": true,
   "subLayerIds": null,
   "minScale": 0,
   "maxScale": 0
  },
  {
   "id": 16,
   "name": "M-NCPPC Zoning",
   "parentLayerId": -1,
   "defaultVisibility": true,
   "subLayerIds": null,
   "minScale": 0,
   "maxScale": 0
  },
  {
   "id": 17,
   "name": "Independent Zoning",
   "parentLayerId": -1,
   "defaultVisibility": true,
   "subLayerIds": null,
   "minScale": 0,
   "maxScale": 0
  },
  {
   "id": 18,
   "name": "Overlay Zones",
   "parentLayerId": -1,
   "defaultVisibility": true,
   "subLayerIds": [
    19,
    20,
    21
   ],
   "minScale": 7200,
   "maxScale": 0
  },
  {
   "id": 19,
   "name": "Overlay Zones Existing",
   "parentLayerId": 18,
   "defaultVisibility": true,
   "subLayerIds": null,
   "minScale": 13000,
   "maxScale": 0
  },
  {
   "id": 20,
   "name": "Overlay Zones Existing",
   "parentLayerId": 18,
   "defaultVisibility": true,
   "subLayerIds": null,
   "minScale": 13000,
   "maxScale": 0
  },
  {
   "id": 21,
   "name": "TDR only - 1:7200",
   "parentLayerId": 18,
   "defaultVisibility": true,
   "subLayerIds": null,
   "minScale": 7200,
   "maxScale": 0
  },
  {
   "id": 22,
   "name": "Parcel Boundaries",
   "parentLayerId": -1,
   "defaultVisibility": true,
   "subLayerIds": null,
   "minScale": 10000,
   "maxScale": 0
  },
  {
   "id": 23,
   "name": "Existing Zoning",
   "parentLayerId": -1,
   "defaultVisibility": true,
   "subLayerIds": [
    24,
    25,
    26,
    27
   ],
   "minScale": 0,
   "maxScale": 0
  },
  {
   "id": 24,
   "name": "Existing Zoning Label 2k",
   "parentLayerId": 23,
   "defaultVisibility": true,
   "subLayerIds": null,
   "minScale": 2000,
   "maxScale": 0
  },
  {
   "id": 25,
   "name": "Existing Zoning Label 7k",
   "parentLayerId": 23,
   "defaultVisibility": true,
   "subLayerIds": null,
   "minScale": 10001,
   "maxScale": 2001
  },
  {
   "id": 26,
   "name": "Existing Zoning (OUTLINE)",
   "parentLayerId": 23,
   "defaultVisibility": true,
   "subLayerIds": null,
   "minScale": 24000,
   "maxScale": 0
  },
  {
   "id": 27,
   "name": "Existing Zoning (Groups)",
   "parentLayerId": 23,
   "defaultVisibility": true,
   "subLayerIds": null,
   "minScale": 0,
   "maxScale": 0
  },
  {
   "id": 28,
   "name": "Existing Zoning (Groups)",
   "parentLayerId": -1,
   "defaultVisibility": true,
   "subLayerIds": null,
   "minScale": 0,
   "maxScale": 72000
  },
  {
   "id": 29,
   "name": "Mask",
   "parentLayerId": -1,
   "defaultVisibility": false,
   "subLayerIds": null,
   "minScale": 0,
   "maxScale": 0
  },
  {
   "id": 30,
   "name": "Base Layers",
   "parentLayerId": -1,
   "defaultVisibility": true,
   "subLayerIds": [
    31,
    32,
    33,
    34,
    35,
    36,
    37,
    38,
    39,
    40,
    44,
    48,
    56,
    59,
    63,
    64,
    65
   ],
   "minScale": 0,
   "maxScale": 0
  },
  {
   "id": 31,
   "name": "Golf Courses",
   "parentLayerId": 30,
   "defaultVisibility": true,
   "subLayerIds": null,
   "minScale": 7200,
   "maxScale": 0
  },
  {
   "id": 32,
   "name": "Liquor Stores",
   "parentLayerId": 30,
   "defaultVisibility": true,
   "subLayerIds": null,
   "minScale": 7200,
   "maxScale": 0
  },
  {
   "id": 33,
   "name": "Lodging",
   "parentLayerId": 30,
   "defaultVisibility": true,
   "subLayerIds": null,
   "minScale": 7200,
   "maxScale": 0
  },
  {
   "id": 34,
   "name": "Religious Institutions",
   "parentLayerId": 30,
   "defaultVisibility": true,
   "subLayerIds": null,
   "minScale": 2400,
   "maxScale": 0
  },
  {
   "id": 35,
   "name": "Shopping Centers",
   "parentLayerId": 30,
   "defaultVisibility": true,
   "subLayerIds": null,
   "minScale": 7200,
   "maxScale": 0
  },
  {
   "id": 36,
   "name": "Hospitals",
   "parentLayerId": 30,
   "defaultVisibility": true,
   "subLayerIds": null,
   "minScale": 7200,
   "maxScale": 0
  },
  {
   "id": 37,
   "name": "Colleges and Universities",
   "parentLayerId": 30,
   "defaultVisibility": true,
   "subLayerIds": null,
   "minScale": 7200,
   "maxScale": 0
  },
  {
   "id": 38,
   "name": "Parking Facilities",
   "parentLayerId": 30,
   "defaultVisibility": true,
   "subLayerIds": null,
   "minScale": 7200,
   "maxScale": 0
  },
  {
   "id": 39,
   "name": "Place Names",
   "parentLayerId": 30,
   "defaultVisibility": true,
   "subLayerIds": null,
   "minScale": 24000,
   "maxScale": 0
  },
  {
   "id": 40,
   "name": "County and City Boundaries",
   "parentLayerId": 30,
   "defaultVisibility": true,
   "subLayerIds": [
    41,
    42,
    43
   ],
   "minScale": 0,
   "maxScale": 0
  },
  {
   "id": 41,
   "name": "Towns & Cities border",
   "parentLayerId": 40,
   "defaultVisibility": true,
   "subLayerIds": null,
   "minScale": 24000,
   "maxScale": 0
  },
  {
   "id": 42,
   "name": "County Boundary",
   "parentLayerId": 40,
   "defaultVisibility": false,
   "subLayerIds": null,
   "minScale": 0,
   "maxScale": 0
  },
  {
   "id": 43,
   "name": "Parcel Boundaries",
   "parentLayerId": 40,
   "defaultVisibility": false,
   "subLayerIds": null,
   "minScale": 7200,
   "maxScale": 0
  },
  {
   "id": 44,
   "name": "Roads as Polygons",
   "parentLayerId": 30,
   "defaultVisibility": true,
   "subLayerIds": [
    45,
    46,
    47
   ],
   "minScale": 12001,
   "maxScale": 0
  },
  {
   "id": 45,
   "name": "bridge_poly_edit",
   "parentLayerId": 44,
   "defaultVisibility": true,
   "subLayerIds": null,
   "minScale": 0,
   "maxScale": 0
  },
  {
   "id": 46,
   "name": "Road Polygons",
   "parentLayerId": 44,
   "defaultVisibility": true,
   "subLayerIds": null,
   "minScale": 12001,
   "maxScale": 0
  },
  {
   "id": 47,
   "name": "Street Names",
   "parentLayerId": 44,
   "defaultVisibility": true,
   "subLayerIds": null,
   "minScale": 12000,
   "maxScale": 0
  },
  {
   "id": 48,
   "name": "Transportation- Roads, Rails and Utilities",
   "parentLayerId": 30,
   "defaultVisibility": true,
   "subLayerIds": [
    49,
    52
   ],
   "minScale": 0,
   "maxScale": 0
  },
  {
   "id": 49,
   "name": "Railroad and Metrorail",
   "parentLayerId": 48,
   "defaultVisibility": true,
   "subLayerIds": [
    50,
    51
   ],
   "minScale": 0,
   "maxScale": 0
  },
  {
   "id": 50,
   "name": "Railroad / Metrorail",
   "parentLayerId": 49,
   "defaultVisibility": true,
   "subLayerIds": null,
   "minScale": 0,
   "maxScale": 0
  },
  {
   "id": 51,
   "name": "Railroad & Metrorail Sidings/Yard Tracks",
   "parentLayerId": 49,
   "defaultVisibility": true,
   "subLayerIds": null,
   "minScale": 45000,
   "maxScale": 0
  },
  {
   "id": 52,
   "name": "Roads as lines",
   "parentLayerId": 48,
   "defaultVisibility": true,
   "subLayerIds": [
    53,
    54,
    55
   ],
   "minScale": 0,
   "maxScale": 12001
  },
  {
   "id": 53,
   "name": "Freeways & Major Roads",
   "parentLayerId": 52,
   "defaultVisibility": true,
   "subLayerIds": null,
   "minScale": 360000,
   "maxScale": 0
  },
  {
   "id": 54,
   "name": "Secondary Road",
   "parentLayerId": 52,
   "defaultVisibility": true,
   "subLayerIds": null,
   "minScale": 360000,
   "maxScale": 0
  },
  {
   "id": 55,
   "name": "Neighborhood Roads",
   "parentLayerId": 52,
   "defaultVisibility": true,
   "subLayerIds": null,
   "minScale": 60001,
   "maxScale": 0
  },
  {
   "id": 56,
   "name": "Buildings & Parking Lots",
   "parentLayerId": 30,
   "defaultVisibility": true,
   "subLayerIds": [
    57,
    58
   ],
   "minScale": 12000,
   "maxScale": 0
  },
  {
   "id": 57,
   "name": "Building Footprints",
   "parentLayerId": 56,
   "defaultVisibility": true,
   "subLayerIds": null,
   "minScale": 12000,
   "maxScale": 0
  },
  {
   "id": 58,
   "name": "Parking Lots & other Transportation (close up)",
   "parentLayerId": 56,
   "defaultVisibility": true,
   "subLayerIds": null,
   "minScale": 12000,
   "maxScale": 0
  },
  {
   "id": 59,
   "name": "Hydrologic Features",
   "parentLayerId": 30,
   "defaultVisibility": true,
   "subLayerIds": [
    60,
    61,
    62
   ],
   "minScale": 0,
   "maxScale": 0
  },
  {
   "id": 60,
   "name": "Streams & Outlines",
   "parentLayerId": 59,
   "defaultVisibility": true,
   "subLayerIds": null,
   "minScale": 36000,
   "maxScale": 0
  },
  {
   "id": 61,
   "name": "hydro polygon",
   "parentLayerId": 59,
   "defaultVisibility": true,
   "subLayerIds": null,
   "minScale": 0,
   "maxScale": 0
  },
  {
   "id": 62,
   "name": "all_parks",
   "parentLayerId": 59,
   "defaultVisibility": true,
   "subLayerIds": null,
   "minScale": 0,
   "maxScale": 0
  },
  {
   "id": 63,
   "name": "Towns & Cities",
   "parentLayerId": 30,
   "defaultVisibility": true,
   "subLayerIds": null,
   "minScale": 0,
   "maxScale": 36000
  },
  {
   "id": 64,
   "name": "Montgomery County",
   "parentLayerId": 30,
   "defaultVisibility": true,
   "subLayerIds": null,
   "minScale": 0,
   "maxScale": 0
  },
  {
   "id": 65,
   "name": "County",
   "parentLayerId": 30,
   "defaultVisibility": true,
   "subLayerIds": null,
   "minScale": 0,
   "maxScale": 0
  }
 ],
 "tables": [],
 "spatialReference": {
  "wkid": 102100,
  "latestWkid": 3857
 },
 "singleFusedMapCache": true,
 "tileInfo": {
  "rows": 256,
  "cols": 256,
  "dpi": 96,
  "format": "PNG8",
  "compressionQuality": 0,
  "origin": {
   "x": -2.0037508342787E7,
   "y": 2.0037508342787E7
  },
  "spatialReference": {
   "wkid": 102100,
   "latestWkid": 3857
  },
  "lods": [
   {
    "level": 0,
    "resolution": 52.91677250021167,
    "scale": 200000
   },
   {
    "level": 1,
    "resolution": 13.229193125052918,
    "scale": 50000
   },
   {
    "level": 2,
    "resolution": 3.1750063500127004,
    "scale": 12000
   },
   {
    "level": 3,
    "resolution": 1.27000254000508,
    "scale": 4800
   },
   {
    "level": 4,
    "resolution": 0.5291677250021167,
    "scale": 2000
   },
   {
    "level": 5,
    "resolution": 0.26458386250105836,
    "scale": 1000
   }
  ]
 },
 "initialExtent": {
  "xmin": -8638277.99483148,
  "ymin": 4733781.66692339,
  "xmax": -8552394.073063634,
  "ymax": 4778946.13225232,
  "spatialReference": {
   "cs": "pcs",
   "wkid": 102100
  }
 },
 "fullExtent": {
  "xmin": -8712385.645000806,
  "ymin": 4662631.401922551,
  "xmax": -8497284.105068572,
  "ymax": 4822867.285483288,
  "spatialReference": {
   "cs": "pcs",
   "wkid": 102100
  }
 },
 "minScale": 200000,
 "maxScale": 1000,
 "units": "esriMeters",
 "supportedImageFormatTypes": "PNG32,PNG24,PNG,JPG,DIB,TIFF,EMF,PS,PDF,GIF,SVG,SVGZ,BMP",
 "documentInfo": {
  "Title": "",
  "Author": "",
  "Comments": "Zoning Background",
  "Subject": "Zoning Background",
  "Category": "",
  "AntialiasingMode": "None",
  "TextAntialiasingMode": "Force",
  "Keywords": "Zoning"
 },
 "capabilities": "Map,Query,Data",
 "supportedQueryFormats": "JSON, AMF, geoJSON",
 "hasVersionedData": true,
 "exportTilesAllowed": false,
 "datumTransformations": [
  {
   "geoTransforms": [
    {
     "wkid": 108190,
     "latestWkid": 108190,
     "transformForward": true,
     "name": "WGS_1984_(ITRF00)_To_NAD_1983"
    }
   ]
  },
  {
   "geoTransforms": [
    {
     "wkid": 108190,
     "latestWkid": 108190,
     "transformForward": false,
     "name": "WGS_1984_(ITRF00)_To_NAD_1983"
    }
   ]
  }
 ],
 "supportsDatumTransformation": true,
 "maxRecordCount": 1000,
 "maxImageHeight": 4096,
 "maxImageWidth": 4096,
 "supportedExtensions": "KmlServer"
}
