View In:
  ArcGIS JavaScript
  ArcGIS Online Map Viewer
  ArcGIS Earth
  ArcMap
  ArcGIS Explorer
View Footprint In:
  ArcGIS Online Map Viewer
Service Description:  When people bicycle on roadways, they encounter varying levels of stress from traffic. A quiet residential street with a 25-mile-per-hour speed limit is considered a very low-stress environment for cyclists. But a six-lane suburban highway with a 40-mile-per-hour speed limit represents a high-stress environment for cyclists who must share the roadway with traffic. As a result, fewer people are likely to bicycle on the highway. Level of traffic stress (LTS) is an approach that quantifies the amount of discomfort that people feel when they bicycle close to traffic.
Data Source: db5 - VW_BIKENETWORKCURRENT 
Map Name:  Layers 
Legend
All Layers and Tables
Dynamic Legend
Dynamic All Layers
Layers: 
Description:  
Copyright Text:  Montgomery County Planning Department - Countywide Planning & Policy  
Spatial Reference: 
102100
 (3857)
Single Fused Map Cache:  true
Tile Info: 
- Height: 256
- Width: 256
- DPI: 96
- 
Levels of Detail:  20
- 
Level ID: 1
[ Start Tile, End Tile ]
- Resolution: 78271.5169639999
- Scale: 2.95828763795777E8
- 
Level ID: 2
[ Start Tile, End Tile ]
- Resolution: 39135.7584820001
- Scale: 1.47914381897889E8
- 
Level ID: 3
[ Start Tile, End Tile ]
- Resolution: 19567.8792409999
- Scale: 7.3957190948944E7
- 
Level ID: 4
[ Start Tile, End Tile ]
- Resolution: 9783.93962049996
- Scale: 3.6978595474472E7
- 
Level ID: 5
[ Start Tile, End Tile ]
- Resolution: 4891.96981024998
- Scale: 1.8489297737236E7
- Format: PNG
- Compression Quality: 0.0
- Origin: X:  -2.0037508342787E7 
 Y:  2.0037508342787E7
 
- Spatial Reference: 102100
 (3857)
 
Initial Extent:
XMin: -8590835.750130111
YMin: 4731747.267486627
XMax: -8582073.19261669
YMax: 4735417.374244342
Spatial Reference: 102100
 
Full Extent:
XMin: -8629590.848023899
YMin: 4712454.875257663
XMax: -8560831.129101308
YMax: 4772327.276811904
Spatial Reference: 102100
 
Units: esriMeters 
Supported Image Format Types:  PNG32,PNG24,PNG,JPG,DIB,TIFF,EMF,PS,PDF,GIF,SVG,SVGZ,BMP
Document Info: 
Title: 
Author: 
Comments: bikeplan LTS network
Subject: bikeplan LTS network
Category: 
Keywords: bikeplan,LTS network,mncppc,montgomery county
AntialiasingMode: None
TextAntialiasingMode: Force
Supports Dynamic Layers: true
MaxRecordCount:  1000
MaxImageHeight:  4096
MaxImageWidth:  4096
Supported Query Formats:  JSON, AMF, geoJSON
Min Scale:  5.91657527591555E8
Max Scale:  1128.497176
Supports Datum Transformation:  true
Child Resources:
  
Info
  Dynamic Layer
 
Supported Operations:
  
Export Map
  Identify
  QueryDomains
  Find
  Return Updates