View In:
  ArcGIS JavaScript
  ArcGIS Online Map Viewer
  ArcGIS Earth
  ArcMap
View Footprint In:
  ArcGIS Online Map Viewer
Service Description:  2009 Tree Canopy 
Name:  Overlays/Treecanopy_2009 
Description:  2009 Tree Canopy 
Single Fused Map Cache:  false
Extent: 
XMin: 1162671.80817522
YMin: 461654.10784643906
XMax: 1343901.80817522
YMax: 614621.107846439
Spatial Reference: 102685
 (2248)
 
Initial Extent:
XMin: 1162671.80817522
YMin: 461654.10784643906
XMax: 1343901.80817522
YMax: 614621.107846439
Spatial Reference: 102685
 (2248)
 
Full Extent:
XMin: 1162671.80817522
YMin: 461654.10784643906
XMax: 1343901.80817522
YMax: 614621.107846439
Spatial Reference: 102685
 (2248)
 
Pixel Size X: 3.0 
Pixel Size Y:  2.9999999999999987 
Band Count: 1
Pixel Type: U1
RasterFunction Infos:  {"rasterFunctionInfos": [{
 "name": "None",
 "description": "",
 "help": ""
}]} 
Mensuration Capabilities: Basic
Has Histograms:  true
Has Colormap:  false
Has Multi Dimensions :  false
Rendering Rule: 
Min Scale:  0
Max Scale:  0
Copyright Text:  
Service Data Type:  esriImageServiceDataTypeThematic 
Min Values:  1 
Max Values:  1 
Mean Values:  1 
Standard Deviation Values:  0 
Object ID Field:  
Fields: 
None
Default Mosaic Method:  Center 
Allowed Mosaic Methods:  
SortField:  
SortValue:  null 
Mosaic Operator:  First 
Default Compression Quality:  75 
Default Resampling Method:  Bilinear 
Max Record Count:  null 
Max Image Height:  4100 
Max Image Width:  15000 
Max Download Image Count:  null 
Max Mosaic Image Count:  null 
Allow Raster Function:  true 
Allow Compute TiePoints:  false 
Supports Statistics:  false 
Supports Advanced Queries:  false 
Use StandardizedQueries:  true 
Raster Type Infos: 
Name: Raster Dataset
Description: Supports all ArcGIS Raster Datasets
Help: 
Has Raster Attribute Table: true 
Edit Fields Info:  null 
Ownership Based AccessControl For Rasters:  null 
Child Resources:
  
Info
  Raster Attribute Table
  Histograms
  Key Properties
  Legend
  MultiDimensionalInfo
  rasterFunctionInfos
Supported Operations:
  
Export Image
  Identify
  Measure
  Compute Histograms
  Compute Statistics Histograms
  Get Samples
  Compute Class Statistics
  Query Boundary