View In:
  ArcGIS JavaScript
  ArcGIS Online Map Viewer
  ArcGIS Earth
  ArcMap
View Footprint In:
  ArcGIS Online Map Viewer
Service Description:  2018 Tree Canopy 
Name:  Overlays/Treecanopy_2018 
Description:  2018 Tree Canopy 
Single Fused Map Cache:  false
Extent: 
XMin: 1162673.50012884
YMin: 461657.123853832
XMax: 1343909.50012884
YMax: 614615.123853833
Spatial Reference: PROJCS["NAD_1983_StatePlane_Maryland_FIPS_1900_Feet",GEOGCS["GCS_North_American_1983",DATUM["D_North_American_1983",SPHEROID["GRS_1980",6378137.0,298.257222101]],PRIMEM["Greenwich",0.0],UNIT["Degree",0.0174532925199433]],PROJECTION["Lambert_Conformal_Conic"],PARAMETER["false_easting",1312333.333],PARAMETER["false_northing",0.0],PARAMETER["central_meridian",-77.0],PARAMETER["standard_parallel_1",38.3],PARAMETER["standard_parallel_2",39.45],PARAMETER["latitude_of_origin",37.66666666666666],UNIT["Foot_US",0.3048006096012192]]
 
Initial Extent:
XMin: 1162673.50012884
YMin: 461657.123853832
XMax: 1343909.50012884
YMax: 614615.123853833
Spatial Reference: PROJCS["NAD_1983_StatePlane_Maryland_FIPS_1900_Feet",GEOGCS["GCS_North_American_1983",DATUM["D_North_American_1983",SPHEROID["GRS_1980",6378137.0,298.257222101]],PRIMEM["Greenwich",0.0],UNIT["Degree",0.0174532925199433]],PROJECTION["Lambert_Conformal_Conic"],PARAMETER["false_easting",1312333.333],PARAMETER["false_northing",0.0],PARAMETER["central_meridian",-77.0],PARAMETER["standard_parallel_1",38.3],PARAMETER["standard_parallel_2",39.45],PARAMETER["latitude_of_origin",37.66666666666666],UNIT["Foot_US",0.3048006096012192]]
 
Full Extent:
XMin: 1162673.50012884
YMin: 461657.123853832
XMax: 1343909.50012884
YMax: 614615.123853833
Spatial Reference: PROJCS["NAD_1983_StatePlane_Maryland_FIPS_1900_Feet",GEOGCS["GCS_North_American_1983",DATUM["D_North_American_1983",SPHEROID["GRS_1980",6378137.0,298.257222101]],PRIMEM["Greenwich",0.0],UNIT["Degree",0.0174532925199433]],PROJECTION["Lambert_Conformal_Conic"],PARAMETER["false_easting",1312333.333],PARAMETER["false_northing",0.0],PARAMETER["central_meridian",-77.0],PARAMETER["standard_parallel_1",38.3],PARAMETER["standard_parallel_2",39.45],PARAMETER["latitude_of_origin",37.66666666666666],UNIT["Foot_US",0.3048006096012192]]
 
Pixel Size X: 3.0 
Pixel Size Y:  3.000000000000018 
Band Count: 1
Pixel Type: U1
RasterFunction Infos:  {"rasterFunctionInfos": [{
 "name": "None",
 "description": "",
 "help": ""
}]} 
Mensuration Capabilities: Basic
Has Histograms:  true
Has Colormap:  false
Has Multi Dimensions :  false
Rendering Rule: 
Min Scale:  0
Max Scale:  0
Copyright Text:  
Service Data Type:  esriImageServiceDataTypeThematic 
Min Values:  1 
Max Values:  1 
Mean Values:  1 
Standard Deviation Values:  0 
Object ID Field:  
Fields: 
None
Default Mosaic Method:  Center 
Allowed Mosaic Methods:  
SortField:  
SortValue:  null 
Mosaic Operator:  First 
Default Compression Quality:  75 
Default Resampling Method:  Bilinear 
Max Record Count:  null 
Max Image Height:  4100 
Max Image Width:  15000 
Max Download Image Count:  null 
Max Mosaic Image Count:  null 
Allow Raster Function:  true 
Allow Compute TiePoints:  false 
Supports Statistics:  false 
Supports Advanced Queries:  false 
Use StandardizedQueries:  true 
Raster Type Infos: 
Name: Raster Dataset
Description: Supports all ArcGIS Raster Datasets
Help: 
Has Raster Attribute Table: true 
Edit Fields Info:  null 
Ownership Based AccessControl For Rasters:  null 
Child Resources:
  
Info
  Raster Attribute Table
  Histograms
  Key Properties
  Legend
  MultiDimensionalInfo
  rasterFunctionInfos
Supported Operations:
  
Export Image
  Identify
  Measure
  Compute Histograms
  Compute Statistics Histograms
  Get Samples
  Compute Class Statistics
  Query Boundary