View In:
  ArcGIS JavaScript
  ArcGIS Online Map Viewer
  ArcGIS Earth
  ArcMap
  ArcGIS Explorer
View Footprint In:
  ArcGIS Online Map Viewer
Service Description:  Basemap for web services 
Map Name:  Layers 
Legend
All Layers and Tables
Dynamic Legend
Dynamic All Layers
Layers: 
Description:  
Copyright Text:  Montgomery County Planning Department  
Spatial Reference: 
102100
 (3857)
Single Fused Map Cache:  true
Tile Info: 
- Height: 256
- Width: 256
- DPI: 96
- 
Levels of Detail:  24
- 
Level ID: 0
[ Start Tile, End Tile ]
- Resolution: 156543.03392800014
- Scale: 5.91657527591555E8
- 
Level ID: 1
[ Start Tile, End Tile ]
- Resolution: 78271.51696399994
- Scale: 2.95828763795777E8
- 
Level ID: 2
[ Start Tile, End Tile ]
- Resolution: 39135.75848200009
- Scale: 1.47914381897889E8
- 
Level ID: 3
[ Start Tile, End Tile ]
- Resolution: 19567.87924099992
- Scale: 7.3957190948944E7
- 
Level ID: 4
[ Start Tile, End Tile ]
- Resolution: 9783.93962049996
- Scale: 3.6978595474472E7
- 
Level ID: 5
[ Start Tile, End Tile ]
- Resolution: 4891.96981024998
- Scale: 1.8489297737236E7
- Format: MIXED
- Compression Quality: 75.0
- Origin: X:  -2.0037508342787E7 
 Y:  2.0037508342787E7
 
- Spatial Reference: 102100
 (3857)
 
Initial Extent:
XMin: -8592223.663122935
YMin: 4742782.93156187
XMax: -8592156.108913386
YMax: 4742811.22221979
Spatial Reference: 102100
 (3857)
 
Full Extent:
XMin: -8646854.543151127
YMin: 4688846.855021005
XMax: -8536467.48774859
YMax: 4789290.796722216
Spatial Reference: 102100
 (3857)
 
Units: esriMeters 
Supported Image Format Types:  PNG32,PNG24,PNG,JPG,DIB,TIFF,EMF,PS,PDF,GIF,SVG,SVGZ,BMP
Document Info: 
Title: 2017 Aerials with Roads Basemap
Author: Montgomery County Planning Department, ITI
Comments: Basemap for web services
Subject: Montgomery County 2017 Aerials with Basemap
Category: 
Keywords: 2015 Aerials,Basemap
AntialiasingMode: None
TextAntialiasingMode: Force
Supports Dynamic Layers: true
MaxRecordCount:  1000
MaxImageHeight:  4096
MaxImageWidth:  4096
Supported Query Formats:  JSON, AMF, geoJSON
Min Scale:  1155581.108577
Max Scale:  564.248588
Supports Datum Transformation:  true
Child Resources:
  
Info
  Dynamic Layer
 
Supported Operations:
  
Export Map
  Identify
  QueryDomains
  Find
  Return Updates