View In:
  ArcGIS JavaScript
  ArcGIS Online Map Viewer
  ArcGIS Earth
  ArcMap
  ArcGIS Explorer
View Footprint In:
  ArcGIS Online Map Viewer
Service Description:  All poles outside State ROW 
Map Name:  Layers 
Legend
All Layers and Tables
Dynamic Legend
Dynamic All Layers
Layers: 
Description:  
Copyright Text:   
Spatial Reference: 
102100
 (3857)
Single Fused Map Cache:  true
Tile Info: 
- Height: 256
- Width: 256
- DPI: 96
- 
Levels of Detail:  24
- 
Level ID: 1
[ Start Tile, End Tile ]
- Resolution: 78271.5169639999
- Scale: 2.95828763795777E8
- 
Level ID: 2
[ Start Tile, End Tile ]
- Resolution: 39135.7584820001
- Scale: 1.47914381897889E8
- 
Level ID: 3
[ Start Tile, End Tile ]
- Resolution: 19567.8792409999
- Scale: 7.3957190948944E7
- 
Level ID: 4
[ Start Tile, End Tile ]
- Resolution: 9783.93962049996
- Scale: 3.6978595474472E7
- 
Level ID: 5
[ Start Tile, End Tile ]
- Resolution: 4891.96981024998
- Scale: 1.8489297737236E7
- Format: PNG
- Compression Quality: 0.0
- Origin: X:  -2.0037508342787E7 
 Y:  2.0037508342787E7
 
- Spatial Reference: 102100
 (3857)
 
Initial Extent:
XMin: -8594578.355722994
YMin: 4729730.860001315
XMax: -8571612.476457905
YMax: 4741774.7174223615
Spatial Reference: 102100
 (3857)
 
Full Extent:
XMin: -8841690.319739532
YMin: 4577080.688183645
XMax: -8352328.800855506
YMax: 4827513.275146396
Spatial Reference: 102100
 (3857)
 
Units: esriMeters 
Supported Image Format Types:  PNG32,PNG24,PNG,JPG,DIB,TIFF,EMF,PS,PDF,GIF,SVG,SVGZ,BMP
Document Info: 
Title: Montgomery County Streetlights inventory
Author: cgm
Comments: 
Subject: Montgomery County Streetlights inventory coded by height and setback from buildings depending on which zones they are in. Conditional use or limited uses.
Category: 
Keywords: anntenna zta
AntialiasingMode: None
TextAntialiasingMode: Force
Supports Dynamic Layers: true
MaxRecordCount:  1000
MaxImageHeight:  4096
MaxImageWidth:  4096
Supported Query Formats:  JSON, AMF, geoJSON
Min Scale:  2311162.217155
Max Scale:  282.124294
Supports Datum Transformation:  true
Child Resources:
  
Info
  Dynamic Layer
 
Supported Operations:
  
Export Map
  Identify
  QueryDomains
  Find
  Return Updates